BEGIN:VCALENDAR
VERSION:2.0
PRODID:-//Mulazzo Eventi - ECPv6.13.1//NONSGML v1.0//EN
CALSCALE:GREGORIAN
METHOD:PUBLISH
X-ORIGINAL-URL:https://mulazzoeventi.it
X-WR-CALDESC:Eventi per Mulazzo Eventi
REFRESH-INTERVAL;VALUE=DURATION:PT1H
X-Robots-Tag:noindex
X-PUBLISHED-TTL:PT1H
BEGIN:VTIMEZONE
TZID:Europe/Rome
BEGIN:DAYLIGHT
TZOFFSETFROM:+0100
TZOFFSETTO:+0200
TZNAME:CEST
DTSTART:20230326T010000
END:DAYLIGHT
BEGIN:STANDARD
TZOFFSETFROM:+0200
TZOFFSETTO:+0100
TZNAME:CET
DTSTART:20231029T010000
END:STANDARD
BEGIN:DAYLIGHT
TZOFFSETFROM:+0100
TZOFFSETTO:+0200
TZNAME:CEST
DTSTART:20240331T010000
END:DAYLIGHT
BEGIN:STANDARD
TZOFFSETFROM:+0200
TZOFFSETTO:+0100
TZNAME:CET
DTSTART:20241027T010000
END:STANDARD
END:VTIMEZONE
BEGIN:VEVENT
DTSTART;TZID=Europe/Rome:20241104T080000
DTEND;TZID=Europe/Rome:20241104T130000
DTSTAMP:20260420T182153
CREATED:20240904T093456Z
LAST-MODIFIED:20240904T093542Z
UID:10001518-1730707200-1730725200@mulazzoeventi.it
SUMMARY:Mercato settimanale Arpiola
DESCRIPTION:
URL:https://mulazzoeventi.it/event/mercato-settimanale-arpiola-2/2024-11-04/
LOCATION:Piazza Della Gioventù\, Piazza della Gioventù\, Arpiola\, 54026\, Italia
CATEGORIES:Mercatini
ATTACH;FMTTYPE=image/jpeg:https://mulazzoeventi.it/wp-content/uploads/2024/07/person-buying-fruits-vegetables-scaled.jpg
ORGANIZER;CN="Comune di Mulazzo":MAILTO:info@comune.mulazzo.ms.it
GEO:44.321299774244;9.9067711830139
X-APPLE-STRUCTURED-LOCATION;VALUE=URI;X-ADDRESS=Piazza Della Gioventù Piazza della Gioventù Arpiola 54026 Italia;X-APPLE-RADIUS=500;X-TITLE=Piazza della Gioventù:geo:9.9067711830139,44.321299774244
END:VEVENT
BEGIN:VEVENT
DTSTART;TZID=Europe/Rome:20241028T080000
DTEND;TZID=Europe/Rome:20241028T130000
DTSTAMP:20260420T182153
CREATED:20240904T093456Z
LAST-MODIFIED:20240904T093542Z
UID:10001517-1730102400-1730120400@mulazzoeventi.it
SUMMARY:Mercato settimanale Arpiola
DESCRIPTION:
URL:https://mulazzoeventi.it/event/mercato-settimanale-arpiola-2/2024-10-28/
LOCATION:Piazza Della Gioventù\, Piazza della Gioventù\, Arpiola\, 54026\, Italia
CATEGORIES:Mercatini
ATTACH;FMTTYPE=image/jpeg:https://mulazzoeventi.it/wp-content/uploads/2024/07/person-buying-fruits-vegetables-scaled.jpg
ORGANIZER;CN="Comune di Mulazzo":MAILTO:info@comune.mulazzo.ms.it
GEO:44.321299774244;9.9067711830139
X-APPLE-STRUCTURED-LOCATION;VALUE=URI;X-ADDRESS=Piazza Della Gioventù Piazza della Gioventù Arpiola 54026 Italia;X-APPLE-RADIUS=500;X-TITLE=Piazza della Gioventù:geo:9.9067711830139,44.321299774244
END:VEVENT
BEGIN:VEVENT
DTSTART;TZID=Europe/Rome:20241021T080000
DTEND;TZID=Europe/Rome:20241021T130000
DTSTAMP:20260420T182153
CREATED:20240904T093456Z
LAST-MODIFIED:20240904T093542Z
UID:10001516-1729497600-1729515600@mulazzoeventi.it
SUMMARY:Mercato settimanale Arpiola
DESCRIPTION:
URL:https://mulazzoeventi.it/event/mercato-settimanale-arpiola-2/2024-10-21/
LOCATION:Piazza Della Gioventù\, Piazza della Gioventù\, Arpiola\, 54026\, Italia
CATEGORIES:Mercatini
ATTACH;FMTTYPE=image/jpeg:https://mulazzoeventi.it/wp-content/uploads/2024/07/person-buying-fruits-vegetables-scaled.jpg
ORGANIZER;CN="Comune di Mulazzo":MAILTO:info@comune.mulazzo.ms.it
GEO:44.321299774244;9.9067711830139
X-APPLE-STRUCTURED-LOCATION;VALUE=URI;X-ADDRESS=Piazza Della Gioventù Piazza della Gioventù Arpiola 54026 Italia;X-APPLE-RADIUS=500;X-TITLE=Piazza della Gioventù:geo:9.9067711830139,44.321299774244
END:VEVENT
BEGIN:VEVENT
DTSTART;TZID=Europe/Rome:20241014T080000
DTEND;TZID=Europe/Rome:20241014T130000
DTSTAMP:20260420T182153
CREATED:20240904T093456Z
LAST-MODIFIED:20240904T093542Z
UID:10001515-1728892800-1728910800@mulazzoeventi.it
SUMMARY:Mercato settimanale Arpiola
DESCRIPTION:
URL:https://mulazzoeventi.it/event/mercato-settimanale-arpiola-2/2024-10-14/
LOCATION:Piazza Della Gioventù\, Piazza della Gioventù\, Arpiola\, 54026\, Italia
CATEGORIES:Mercatini
ATTACH;FMTTYPE=image/jpeg:https://mulazzoeventi.it/wp-content/uploads/2024/07/person-buying-fruits-vegetables-scaled.jpg
ORGANIZER;CN="Comune di Mulazzo":MAILTO:info@comune.mulazzo.ms.it
GEO:44.321299774244;9.9067711830139
X-APPLE-STRUCTURED-LOCATION;VALUE=URI;X-ADDRESS=Piazza Della Gioventù Piazza della Gioventù Arpiola 54026 Italia;X-APPLE-RADIUS=500;X-TITLE=Piazza della Gioventù:geo:9.9067711830139,44.321299774244
END:VEVENT
BEGIN:VEVENT
DTSTART;TZID=Europe/Rome:20241007T080000
DTEND;TZID=Europe/Rome:20241007T130000
DTSTAMP:20260420T182153
CREATED:20240904T093456Z
LAST-MODIFIED:20240904T093542Z
UID:10001514-1728288000-1728306000@mulazzoeventi.it
SUMMARY:Mercato settimanale Arpiola
DESCRIPTION:
URL:https://mulazzoeventi.it/event/mercato-settimanale-arpiola-2/2024-10-07/
LOCATION:Piazza Della Gioventù\, Piazza della Gioventù\, Arpiola\, 54026\, Italia
CATEGORIES:Mercatini
ATTACH;FMTTYPE=image/jpeg:https://mulazzoeventi.it/wp-content/uploads/2024/07/person-buying-fruits-vegetables-scaled.jpg
ORGANIZER;CN="Comune di Mulazzo":MAILTO:info@comune.mulazzo.ms.it
GEO:44.321299774244;9.9067711830139
X-APPLE-STRUCTURED-LOCATION;VALUE=URI;X-ADDRESS=Piazza Della Gioventù Piazza della Gioventù Arpiola 54026 Italia;X-APPLE-RADIUS=500;X-TITLE=Piazza della Gioventù:geo:9.9067711830139,44.321299774244
END:VEVENT
BEGIN:VEVENT
DTSTART;TZID=Europe/Rome:20240930T080000
DTEND;TZID=Europe/Rome:20240930T130000
DTSTAMP:20260420T182153
CREATED:20240904T093456Z
LAST-MODIFIED:20240904T093542Z
UID:10001392-1727683200-1727701200@mulazzoeventi.it
SUMMARY:Mercato settimanale Arpiola
DESCRIPTION:
URL:https://mulazzoeventi.it/event/mercato-settimanale-arpiola-2/2024-09-30/
LOCATION:Piazza Della Gioventù\, Piazza della Gioventù\, Arpiola\, 54026\, Italia
CATEGORIES:Mercatini
ATTACH;FMTTYPE=image/jpeg:https://mulazzoeventi.it/wp-content/uploads/2024/07/person-buying-fruits-vegetables-scaled.jpg
ORGANIZER;CN="Comune di Mulazzo":MAILTO:info@comune.mulazzo.ms.it
GEO:44.321299774244;9.9067711830139
X-APPLE-STRUCTURED-LOCATION;VALUE=URI;X-ADDRESS=Piazza Della Gioventù Piazza della Gioventù Arpiola 54026 Italia;X-APPLE-RADIUS=500;X-TITLE=Piazza della Gioventù:geo:9.9067711830139,44.321299774244
END:VEVENT
BEGIN:VEVENT
DTSTART;TZID=Europe/Rome:20231202T140000
DTEND;TZID=Europe/Rome:20231203T190000
DTSTAMP:20260420T182153
CREATED:20231129T080912Z
LAST-MODIFIED:20231202T072120Z
UID:10001082-1701525600-1701630000@mulazzoeventi.it
SUMMARY:Mercatini di Natale a Mulazzo
DESCRIPTION:Nella suggestiva cornice del Borgo di Mulazzo\, due giorni di Mercatini Natalizi. \nMolti gli espositori e gli stand gastronomici: potrete trovare una vasta gamma di oggettistica fatta a mano a tema Natalizio e gustare ottimi prodotti tipici nelle zone di ristoro a cura delle associazioni del territorio.
URL:https://mulazzoeventi.it/event/mercatini-di-natale-a-mulazzo/
LOCATION:Mulazzo\, Piazza Malaspina\, Mulazzo\, MS\, 54026\, Italia
CATEGORIES:Cibo e Vino,Mercatini
ATTACH;FMTTYPE=image/jpeg:https://mulazzoeventi.it/wp-content/uploads/2023/11/WhatsApp-Image-2023-11-29-at-09.11.05.jpeg
ORGANIZER;CN="Comune di Mulazzo":MAILTO:info@comune.mulazzo.ms.it
END:VEVENT
END:VCALENDAR