BEGIN:VCALENDAR
VERSION:2.0
PRODID:-//Mulazzo Eventi - ECPv6.13.1//NONSGML v1.0//EN
CALSCALE:GREGORIAN
METHOD:PUBLISH
X-WR-CALNAME:Mulazzo Eventi
X-ORIGINAL-URL:https://mulazzoeventi.it
X-WR-CALDESC:Eventi per Mulazzo Eventi
REFRESH-INTERVAL;VALUE=DURATION:PT1H
X-Robots-Tag:noindex
X-PUBLISHED-TTL:PT1H
BEGIN:VTIMEZONE
TZID:Europe/Rome
BEGIN:DAYLIGHT
TZOFFSETFROM:+0100
TZOFFSETTO:+0200
TZNAME:CEST
DTSTART:20230326T010000
END:DAYLIGHT
BEGIN:STANDARD
TZOFFSETFROM:+0200
TZOFFSETTO:+0100
TZNAME:CET
DTSTART:20231029T010000
END:STANDARD
BEGIN:DAYLIGHT
TZOFFSETFROM:+0100
TZOFFSETTO:+0200
TZNAME:CEST
DTSTART:20240331T010000
END:DAYLIGHT
BEGIN:STANDARD
TZOFFSETFROM:+0200
TZOFFSETTO:+0100
TZNAME:CET
DTSTART:20241027T010000
END:STANDARD
END:VTIMEZONE
BEGIN:VEVENT
DTSTART;TZID=Europe/Rome:20241201T103000
DTEND;TZID=Europe/Rome:20241202T170000
DTSTAMP:20260421T121118
CREATED:20241113T083557Z
LAST-MODIFIED:20241113T083557Z
UID:10001787-1733049000-1733158800@mulazzoeventi.it
SUMMARY:Mulazzo e i suoi tesori
DESCRIPTION:Visite guidate dei luoghi simbolo del\n“Borgo tra i più belli d’Italia”\n 
URL:https://mulazzoeventi.it/event/mulazzo-e-i-suoi-tesori/2024-12-01/
LOCATION:Mulazzo\, Piazza Malaspina\, Mulazzo\, MS\, 54026\, Italia
CATEGORIES:Visite guidate
ATTACH;FMTTYPE=image/jpeg:https://mulazzoeventi.it/wp-content/uploads/2024/11/WhatsApp-Image-2024-10-30-at-11.59.57.jpeg
ORGANIZER;CN="Sigeric - Servizi per il Turismo":MAILTO:info@sigeric.it
END:VEVENT
BEGIN:VEVENT
DTSTART;TZID=Europe/Rome:20241130T103000
DTEND;TZID=Europe/Rome:20241201T170000
DTSTAMP:20260421T121118
CREATED:20241113T083557Z
LAST-MODIFIED:20241113T083557Z
UID:10001786-1732962600-1733072400@mulazzoeventi.it
SUMMARY:Mulazzo e i suoi tesori
DESCRIPTION:Visite guidate dei luoghi simbolo del\n“Borgo tra i più belli d’Italia”\n 
URL:https://mulazzoeventi.it/event/mulazzo-e-i-suoi-tesori/2024-11-30/
LOCATION:Mulazzo\, Piazza Malaspina\, Mulazzo\, MS\, 54026\, Italia
CATEGORIES:Visite guidate
ATTACH;FMTTYPE=image/jpeg:https://mulazzoeventi.it/wp-content/uploads/2024/11/WhatsApp-Image-2024-10-30-at-11.59.57.jpeg
ORGANIZER;CN="Sigeric - Servizi per il Turismo":MAILTO:info@sigeric.it
END:VEVENT
BEGIN:VEVENT
DTSTART;TZID=Europe/Rome:20241124T103000
DTEND;TZID=Europe/Rome:20241125T170000
DTSTAMP:20260421T121118
CREATED:20241113T083557Z
LAST-MODIFIED:20241113T083557Z
UID:10001785-1732444200-1732554000@mulazzoeventi.it
SUMMARY:Mulazzo e i suoi tesori
DESCRIPTION:Visite guidate dei luoghi simbolo del\n“Borgo tra i più belli d’Italia”\n 
URL:https://mulazzoeventi.it/event/mulazzo-e-i-suoi-tesori/2024-11-24/
LOCATION:Mulazzo\, Piazza Malaspina\, Mulazzo\, MS\, 54026\, Italia
CATEGORIES:Visite guidate
ATTACH;FMTTYPE=image/jpeg:https://mulazzoeventi.it/wp-content/uploads/2024/11/WhatsApp-Image-2024-10-30-at-11.59.57.jpeg
ORGANIZER;CN="Sigeric - Servizi per il Turismo":MAILTO:info@sigeric.it
END:VEVENT
BEGIN:VEVENT
DTSTART;TZID=Europe/Rome:20241123T103000
DTEND;TZID=Europe/Rome:20241124T170000
DTSTAMP:20260421T121118
CREATED:20241113T083557Z
LAST-MODIFIED:20241113T083557Z
UID:10001784-1732357800-1732467600@mulazzoeventi.it
SUMMARY:Mulazzo e i suoi tesori
DESCRIPTION:Visite guidate dei luoghi simbolo del\n“Borgo tra i più belli d’Italia”\n 
URL:https://mulazzoeventi.it/event/mulazzo-e-i-suoi-tesori/2024-11-23/
LOCATION:Mulazzo\, Piazza Malaspina\, Mulazzo\, MS\, 54026\, Italia
CATEGORIES:Visite guidate
ATTACH;FMTTYPE=image/jpeg:https://mulazzoeventi.it/wp-content/uploads/2024/11/WhatsApp-Image-2024-10-30-at-11.59.57.jpeg
ORGANIZER;CN="Sigeric - Servizi per il Turismo":MAILTO:info@sigeric.it
END:VEVENT
BEGIN:VEVENT
DTSTART;TZID=Europe/Rome:20241117T103000
DTEND;TZID=Europe/Rome:20241118T170000
DTSTAMP:20260421T121118
CREATED:20241113T083557Z
LAST-MODIFIED:20241113T083557Z
UID:10001783-1731839400-1731949200@mulazzoeventi.it
SUMMARY:Mulazzo e i suoi tesori
DESCRIPTION:Visite guidate dei luoghi simbolo del\n“Borgo tra i più belli d’Italia”\n 
URL:https://mulazzoeventi.it/event/mulazzo-e-i-suoi-tesori/2024-11-17/
LOCATION:Mulazzo\, Piazza Malaspina\, Mulazzo\, MS\, 54026\, Italia
CATEGORIES:Visite guidate
ATTACH;FMTTYPE=image/jpeg:https://mulazzoeventi.it/wp-content/uploads/2024/11/WhatsApp-Image-2024-10-30-at-11.59.57.jpeg
ORGANIZER;CN="Sigeric - Servizi per il Turismo":MAILTO:info@sigeric.it
END:VEVENT
BEGIN:VEVENT
DTSTART;TZID=Europe/Rome:20241116T103000
DTEND;TZID=Europe/Rome:20241117T170000
DTSTAMP:20260421T121118
CREATED:20241113T083557Z
LAST-MODIFIED:20241113T083557Z
UID:10001782-1731753000-1731862800@mulazzoeventi.it
SUMMARY:Mulazzo e i suoi tesori
DESCRIPTION:Visite guidate dei luoghi simbolo del\n“Borgo tra i più belli d’Italia”\n 
URL:https://mulazzoeventi.it/event/mulazzo-e-i-suoi-tesori/2024-11-16/
LOCATION:Mulazzo\, Piazza Malaspina\, Mulazzo\, MS\, 54026\, Italia
CATEGORIES:Visite guidate
ATTACH;FMTTYPE=image/jpeg:https://mulazzoeventi.it/wp-content/uploads/2024/11/WhatsApp-Image-2024-10-30-at-11.59.57.jpeg
ORGANIZER;CN="Sigeric - Servizi per il Turismo":MAILTO:info@sigeric.it
END:VEVENT
BEGIN:VEVENT
DTSTART;TZID=Europe/Rome:20241109T100000
DTEND;TZID=Europe/Rome:20241109T190000
DTSTAMP:20260421T121118
CREATED:20241031T075603Z
LAST-MODIFIED:20241107T083408Z
UID:10001777-1731146400-1731178800@mulazzoeventi.it
SUMMARY:Cerimonia di consegna della bandiera I BORGHI PIU' BELLI D'ITALIA
DESCRIPTION:Sabato 9 novembre a partire dalle ore 10  – Borgo di Mulazzo\nUna giornata ricca di appuntamenti in occasione della consegna al nostro Comune della Bandiera de \nI BORGHI PIU’ BELLI D’ITALIA\n \n\n 
URL:https://mulazzoeventi.it/event/cerimonia-di-consegna-della-bandiera-i-borghi-piu-belli-ditalia/
LOCATION:Mulazzo\, Piazza Malaspina\, Mulazzo\, MS\, 54026\, Italia
CATEGORIES:Inaugurazioni,Incontri,Libri_dibattiti,Manifestazioni
ATTACH;FMTTYPE=image/jpeg:https://mulazzoeventi.it/wp-content/uploads/2024/10/9_11_Borghi_belli_Italia_generale-1.jpg
ORGANIZER;CN="Comune di Mulazzo":MAILTO:info@comune.mulazzo.ms.it
END:VEVENT
BEGIN:VEVENT
DTSTART;TZID=Europe/Rome:20231202T140000
DTEND;TZID=Europe/Rome:20231203T190000
DTSTAMP:20260421T121118
CREATED:20231129T080912Z
LAST-MODIFIED:20231202T072120Z
UID:10001082-1701525600-1701630000@mulazzoeventi.it
SUMMARY:Mercatini di Natale a Mulazzo
DESCRIPTION:Nella suggestiva cornice del Borgo di Mulazzo\, due giorni di Mercatini Natalizi. \nMolti gli espositori e gli stand gastronomici: potrete trovare una vasta gamma di oggettistica fatta a mano a tema Natalizio e gustare ottimi prodotti tipici nelle zone di ristoro a cura delle associazioni del territorio.
URL:https://mulazzoeventi.it/event/mercatini-di-natale-a-mulazzo/
LOCATION:Mulazzo\, Piazza Malaspina\, Mulazzo\, MS\, 54026\, Italia
CATEGORIES:Cibo e Vino,Mercatini
ATTACH;FMTTYPE=image/jpeg:https://mulazzoeventi.it/wp-content/uploads/2023/11/WhatsApp-Image-2023-11-29-at-09.11.05.jpeg
ORGANIZER;CN="Comune di Mulazzo":MAILTO:info@comune.mulazzo.ms.it
END:VEVENT
END:VCALENDAR