BEGIN:VCALENDAR
VERSION:2.0
PRODID:-//Mulazzo Eventi - ECPv6.13.1//NONSGML v1.0//EN
CALSCALE:GREGORIAN
METHOD:PUBLISH
X-ORIGINAL-URL:https://mulazzoeventi.it
X-WR-CALDESC:Eventi per Mulazzo Eventi
REFRESH-INTERVAL;VALUE=DURATION:PT1H
X-Robots-Tag:noindex
X-PUBLISHED-TTL:PT1H
BEGIN:VTIMEZONE
TZID:Europe/Rome
BEGIN:DAYLIGHT
TZOFFSETFROM:+0100
TZOFFSETTO:+0200
TZNAME:CEST
DTSTART:20230326T010000
END:DAYLIGHT
BEGIN:STANDARD
TZOFFSETFROM:+0200
TZOFFSETTO:+0100
TZNAME:CET
DTSTART:20231029T010000
END:STANDARD
BEGIN:DAYLIGHT
TZOFFSETFROM:+0100
TZOFFSETTO:+0200
TZNAME:CEST
DTSTART:20240331T010000
END:DAYLIGHT
BEGIN:STANDARD
TZOFFSETFROM:+0200
TZOFFSETTO:+0100
TZNAME:CET
DTSTART:20241027T010000
END:STANDARD
END:VTIMEZONE
BEGIN:VEVENT
DTSTART;TZID=Europe/Rome:20240215T210000
DTEND;TZID=Europe/Rome:20240215T230000
DTSTAMP:20260421T145423
CREATED:20240104T105919Z
LAST-MODIFIED:20240118T080433Z
UID:10001097-1708030800-1708038000@mulazzoeventi.it
SUMMARY:Cineforum Mulazzo - Perfetti Sconosciuti
DESCRIPTION:Cineforum Mulazzo 2024  Comico Italiano\nI migliori film di commedia italiani degli ultimi anni  \nINGRESSO GRATUITO – Inizio proiezioni ore 21.00\n 
URL:https://mulazzoeventi.it/event/cineforum-mulazzo-comico-italiano-2-2/
LOCATION:Museo Malaspina Mulazzo\, Piazza Malaspina\, Mulazzo\, MS\, 54026\, Italia
CATEGORIES:Cinema,Incontri,Mostre,Spettacolo
ATTACH;FMTTYPE=image/jpeg:https://mulazzoeventi.it/wp-content/uploads/2024/01/disposizione-del-primo-piano-di-oggetti-cinematografici-scaled.jpg
ORGANIZER;CN="Comune di Mulazzo":MAILTO:info@comune.mulazzo.ms.it
GEO:44.315907302324;9.8897391557693
X-APPLE-STRUCTURED-LOCATION;VALUE=URI;X-ADDRESS=Museo Malaspina Mulazzo Piazza Malaspina Mulazzo MS 54026 Italia;X-APPLE-RADIUS=500;X-TITLE=Piazza Malaspina:geo:9.8897391557693,44.315907302324
END:VEVENT
BEGIN:VEVENT
DTSTART;TZID=Europe/Rome:20231202T140000
DTEND;TZID=Europe/Rome:20231203T190000
DTSTAMP:20260421T145423
CREATED:20231129T080912Z
LAST-MODIFIED:20231202T072120Z
UID:10001082-1701525600-1701630000@mulazzoeventi.it
SUMMARY:Mercatini di Natale a Mulazzo
DESCRIPTION:Nella suggestiva cornice del Borgo di Mulazzo\, due giorni di Mercatini Natalizi. \nMolti gli espositori e gli stand gastronomici: potrete trovare una vasta gamma di oggettistica fatta a mano a tema Natalizio e gustare ottimi prodotti tipici nelle zone di ristoro a cura delle associazioni del territorio.
URL:https://mulazzoeventi.it/event/mercatini-di-natale-a-mulazzo/
LOCATION:Mulazzo\, Piazza Malaspina\, Mulazzo\, MS\, 54026\, Italia
CATEGORIES:Cibo e Vino,Mercatini
ATTACH;FMTTYPE=image/jpeg:https://mulazzoeventi.it/wp-content/uploads/2023/11/WhatsApp-Image-2023-11-29-at-09.11.05.jpeg
ORGANIZER;CN="Comune di Mulazzo":MAILTO:info@comune.mulazzo.ms.it
END:VEVENT
END:VCALENDAR